BEGIN:VCALENDAR
VERSION:2.0
PRODID:-//136.243.73.16//NONSGML kigkonsult.se iCalcreator 2.20//
CALSCALE:GREGORIAN
METHOD:PUBLISH
X-WR-TIMEZONE:Europe/Berlin
BEGIN:VEVENT
UID:event79@Schuetzengau Schwabach Roth Hilpoltstein
DTSTAMP:20260423T190601Z
CATEGORIES:Termine-Damen
DESCRIPTION:Strohschießen der Schützinnen-Preisverteilung\nKategorie: Termi
 ne-Damen\nICS-Link: https://www.gau-srh.de/index.php?option=com_jem&view=e
 vent&id=79:strohschiessen-der-schuetzinnen-preisverteilung\n
DTSTART;TZID=Europe/Berlin:20260919T140000
DTEND;TZID=Europe/Berlin:20260919T140000
LOCATION:Zimmerstutzen-Gesellschaft e.V. Katzwang
SUMMARY:Strohschießen der Schützinnen-Preisverteilung
URL:https://www.gau-srh.de/index.php?option=com_jem&view=event&id=79:strohs
 chiessen-der-schuetzinnen-preisverteilung
END:VEVENT
END:VCALENDAR
