BEGIN:VCALENDAR
VERSION:2.0
PRODID:-//136.243.73.16//NONSGML kigkonsult.se iCalcreator 2.20//
CALSCALE:GREGORIAN
METHOD:PUBLISH
X-WR-TIMEZONE:Europe/Berlin
BEGIN:VEVENT
UID:event77@Schuetzengau Schwabach Roth Hilpoltstein
DTSTAMP:20260423T170641Z
CATEGORIES:Termine Schützenjugend
DESCRIPTION:Landkreispokalschießen der Jugend-Preisverteilung\nKategorie: T
 ermine Schützenjugend\nICS-Link: https://www.gau-srh.de/index.php?option=c
 om_jem&view=event&id=77:landkreispokalschiessen-der-jugend-preisverteilung
 \n
DTSTART;VALUE=DATE:20260627
DTEND;VALUE=DATE:20260628
LOCATION:SSG e.V. Rohr
SUMMARY:Landkreispokalschießen der Jugend-Preisverteilung
URL:https://www.gau-srh.de/index.php?option=com_jem&view=event&id=77:landkr
 eispokalschiessen-der-jugend-preisverteilung
END:VEVENT
END:VCALENDAR
