BEGIN:VCALENDAR
VERSION:2.0
PRODID:-//136.243.73.16//NONSGML kigkonsult.se iCalcreator 2.20//
CALSCALE:GREGORIAN
METHOD:PUBLISH
X-WR-TIMEZONE:Europe/Berlin
BEGIN:VEVENT
UID:event74@Schuetzengau Schwabach Roth Hilpoltstein
DTSTAMP:20260423T215028Z
CATEGORIES:Termine-Damen
DESCRIPTION:Blumenschießen der Schützinnen Preisverteilung\nKategorie: Term
 ine-Damen\nICS-Link: https://www.gau-srh.de/index.php?option=com_jem&view=
 event&id=74:blumenschiessen-der-schuetzinnen-preisverteilung\n
DTSTART;TZID=Europe/Berlin:20260523T140000
DTEND;TZID=Europe/Berlin:20260523T140000
LOCATION:Schützengruppe Kornburg
SUMMARY:Blumenschießen der Schützinnen Preisverteilung
URL:https://www.gau-srh.de/index.php?option=com_jem&view=event&id=74:blumen
 schiessen-der-schuetzinnen-preisverteilung
END:VEVENT
END:VCALENDAR
